Package: Path2PPI Version: 1.40.0 Command: /home/biocbuild/bbs-3.22-bioc/R/bin/R CMD INSTALL Path2PPI StartedAt: 2025-11-17 16:57:06 -0500 (Mon, 17 Nov 2025) EndedAt: 2025-11-17 16:57:12 -0500 (Mon, 17 Nov 2025) EllapsedTime: 5.7 seconds RetCode: 0 Status: OK