Package: PSMatch Version: 1.14.0 Command: /home/biocbuild/bbs-3.22-bioc/R/bin/R CMD INSTALL PSMatch StartedAt: 2025-10-30 15:38:21 -0400 (Thu, 30 Oct 2025) EndedAt: 2025-10-30 15:38:51 -0400 (Thu, 30 Oct 2025) EllapsedTime: 30.5 seconds RetCode: 0 Status: OK