Package: PSMatch Version: 1.14.0 Command: /home/biocbuild/bbs-3.22-bioc/R/bin/R CMD build --keep-empty-dirs --no-resave-data --md5 PSMatch StartedAt: 2025-10-30 19:25:57 -0400 (Thu, 30 Oct 2025) EndedAt: 2025-10-30 19:27:44 -0400 (Thu, 30 Oct 2025) EllapsedTime: 107.1 seconds RetCode: 0 Status: OK PackageFile: PSMatch_1.14.0.tar.gz PackageFileSize: 1.741 MiB