Package: PROcess Version: 1.86.0 Command: /home/biocbuild/bbs-3.22-bioc/R/bin/R CMD INSTALL PROcess StartedAt: 2025-11-02 15:18:13 -0500 (Sun, 02 Nov 2025) EndedAt: 2025-11-02 15:18:19 -0500 (Sun, 02 Nov 2025) EllapsedTime: 5.9 seconds RetCode: 0 Status: OK