Package: PROPS Version: 1.32.0 Command: /home/biocbuild/bbs-3.22-bioc/R/bin/R CMD INSTALL PROPS StartedAt: 2025-11-17 17:20:08 -0500 (Mon, 17 Nov 2025) EndedAt: 2025-11-17 17:20:27 -0500 (Mon, 17 Nov 2025) EllapsedTime: 18.2 seconds RetCode: 0 Status: OK