Package: PROPER Version: 1.42.0 Command: /home/biocbuild/bbs-3.22-bioc/R/bin/R CMD INSTALL PROPER StartedAt: 2025-11-02 15:09:35 -0500 (Sun, 02 Nov 2025) EndedAt: 2025-11-02 15:09:55 -0500 (Sun, 02 Nov 2025) EllapsedTime: 19.4 seconds RetCode: 0 Status: OK