Package: PROPER Version: 1.42.0 Command: /home/biocbuild/bbs-3.22-bioc/R/bin/R CMD build --keep-empty-dirs --no-resave-data --md5 PROPER StartedAt: 2025-10-31 19:33:59 -0400 (Fri, 31 Oct 2025) EndedAt: 2025-10-31 19:34:07 -0400 (Fri, 31 Oct 2025) EllapsedTime: 8.0 seconds RetCode: 0 Status: OK PackageFile: PROPER_1.42.0.tar.gz PackageFileSize: 1.801 MiB