Package: PREDA Version: 1.56.0 Command: /home/biocbuild/bbs-3.22-bioc/R/bin/R CMD INSTALL PREDA StartedAt: 2025-10-29 21:44:16 -0400 (Wed, 29 Oct 2025) EndedAt: 2025-10-29 21:44:36 -0400 (Wed, 29 Oct 2025) EllapsedTime: 19.6 seconds RetCode: 0 Status: OK