Package: PPInfer Version: 1.36.0 Command: /home/biocbuild/bbs-3.22-bioc/R/bin/R CMD build --keep-empty-dirs --no-resave-data --md5 PPInfer StartedAt: 2025-11-11 19:27:32 -0500 (Tue, 11 Nov 2025) EndedAt: 2025-11-11 19:28:26 -0500 (Tue, 11 Nov 2025) EllapsedTime: 54.0 seconds RetCode: 0 Status: OK PackageFile: PPInfer_1.36.0.tar.gz PackageFileSize: 327.2 KiB