Package: POWSC Version: 1.18.0 Command: /home/biocbuild/bbs-3.22-bioc/R/bin/R CMD INSTALL POWSC StartedAt: 2025-10-30 15:20:52 -0400 (Thu, 30 Oct 2025) EndedAt: 2025-10-30 15:21:23 -0400 (Thu, 30 Oct 2025) EllapsedTime: 30.7 seconds RetCode: 0 Status: OK