Package: POWSC Version: 1.18.0 Command: /home/biocbuild/bbs-3.22-bioc/R/bin/R CMD build --keep-empty-dirs --no-resave-data --md5 POWSC StartedAt: 2025-10-30 19:22:01 -0400 (Thu, 30 Oct 2025) EndedAt: 2025-10-30 19:23:19 -0400 (Thu, 30 Oct 2025) EllapsedTime: 78.1 seconds RetCode: 0 Status: OK PackageFile: POWSC_1.18.0.tar.gz PackageFileSize: 1.137 MiB