Package: PMScanR Version: 0.99.6 Command: /home/biocbuild/bbs-3.22-bioc/R/bin/R CMD INSTALL PMScanR StartedAt: 2025-10-24 15:43:21 -0400 (Fri, 24 Oct 2025) EndedAt: 2025-10-24 15:43:56 -0400 (Fri, 24 Oct 2025) EllapsedTime: 34.8 seconds RetCode: 0 Status: OK