Package: PMScanR Version: 1.0.0 Command: /Library/Frameworks/R.framework/Resources/bin/R CMD build --keep-empty-dirs --no-resave-data PMScanR StartedAt: 2025-11-10 17:22:31 -0500 (Mon, 10 Nov 2025) EndedAt: 2025-11-10 17:22:55 -0500 (Mon, 10 Nov 2025) EllapsedTime: 24.3 seconds RetCode: 0 Status: OK PackageFile: PMScanR_1.0.0.tar.gz PackageFileSize: 1.945 MiB