Package: PLSDAbatch Version: 1.6.0 Command: /home/biocbuild/bbs-3.22-bioc/R/bin/R CMD INSTALL PLSDAbatch StartedAt: 2025-10-31 15:40:52 -0400 (Fri, 31 Oct 2025) EndedAt: 2025-10-31 15:41:42 -0400 (Fri, 31 Oct 2025) EllapsedTime: 50.0 seconds RetCode: 0 Status: OK