Package: PLSDAbatch Version: 1.6.0 Command: /home/biocbuild/bbs-3.22-bioc/R/bin/R CMD build --keep-empty-dirs --no-resave-data --md5 PLSDAbatch StartedAt: 2025-10-30 19:20:41 -0400 (Thu, 30 Oct 2025) EndedAt: 2025-10-30 19:21:59 -0400 (Thu, 30 Oct 2025) EllapsedTime: 78.1 seconds RetCode: 0 Status: OK PackageFile: PLSDAbatch_1.6.0.tar.gz PackageFileSize: 1.63 MiB