Package: PIUMA Version: 1.6.0 Command: /Library/Frameworks/R.framework/Resources/bin/R CMD INSTALL PIUMA StartedAt: 2025-10-30 15:14:32 -0400 (Thu, 30 Oct 2025) EndedAt: 2025-10-30 15:14:44 -0400 (Thu, 30 Oct 2025) EllapsedTime: 12.1 seconds RetCode: 0 Status: OK