Package: PIUMA Version: 1.6.0 Command: /Library/Frameworks/R.framework/Resources/bin/R CMD build --keep-empty-dirs --no-resave-data PIUMA StartedAt: 2025-10-30 17:21:25 -0400 (Thu, 30 Oct 2025) EndedAt: 2025-10-30 17:21:58 -0400 (Thu, 30 Oct 2025) EllapsedTime: 32.4 seconds RetCode: 1 Status: ERROR PackageFile: None PackageFileSize: NA