Package: PECA Version: 1.46.0 Command: /home/biocbuild/bbs-3.22-bioc/R/bin/R CMD INSTALL PECA StartedAt: 2025-11-16 15:29:42 -0500 (Sun, 16 Nov 2025) EndedAt: 2025-11-16 15:30:04 -0500 (Sun, 16 Nov 2025) EllapsedTime: 22.1 seconds RetCode: 0 Status: OK