Package: PECA Version: 1.46.0 Command: /home/biocbuild/bbs-3.22-bioc/R/bin/R CMD build --keep-empty-dirs --no-resave-data --md5 PECA StartedAt: 2025-11-16 19:23:50 -0500 (Sun, 16 Nov 2025) EndedAt: 2025-11-16 19:24:27 -0500 (Sun, 16 Nov 2025) EllapsedTime: 37.0 seconds RetCode: 0 Status: OK PackageFile: PECA_1.46.0.tar.gz PackageFileSize: 215.2 KiB