Package: PDATK Version: 1.18.0 Command: /home/biocbuild/bbs-3.22-bioc/R/bin/R CMD INSTALL PDATK StartedAt: 2025-11-03 15:46:11 -0500 (Mon, 03 Nov 2025) EndedAt: 2025-11-03 15:46:56 -0500 (Mon, 03 Nov 2025) EllapsedTime: 44.9 seconds RetCode: 0 Status: OK