Package: PCAtools Version: 2.21.0 Command: /home/biocbuild/bbs-3.22-bioc/R/bin/R CMD INSTALL PCAtools StartedAt: 2025-10-24 16:03:24 -0400 (Fri, 24 Oct 2025) EndedAt: 2025-10-24 16:03:59 -0400 (Fri, 24 Oct 2025) EllapsedTime: 34.6 seconds RetCode: 0 Status: OK