Package: PCAtools Version: 2.21.0 Command: /home/biocbuild/bbs-3.22-bioc/R/bin/R CMD build --keep-empty-dirs --no-resave-data --md5 PCAtools StartedAt: 2025-10-24 19:24:17 -0400 (Fri, 24 Oct 2025) EndedAt: 2025-10-24 19:26:36 -0400 (Fri, 24 Oct 2025) EllapsedTime: 139.2 seconds RetCode: 1 Status: ERROR PackageFile: None PackageFileSize: NA