Package: PCAtools Version: 2.22.0 Command: /Library/Frameworks/R.framework/Resources/bin/R CMD INSTALL PCAtools StartedAt: 2025-11-03 15:51:38 -0500 (Mon, 03 Nov 2025) EndedAt: 2025-11-03 15:52:23 -0500 (Mon, 03 Nov 2025) EllapsedTime: 45.4 seconds RetCode: 0 Status: OK