Package: PCAtools Version: 2.22.0 Command: /Library/Frameworks/R.framework/Resources/bin/R CMD build --keep-empty-dirs --no-resave-data PCAtools StartedAt: 2025-11-03 18:12:10 -0500 (Mon, 03 Nov 2025) EndedAt: 2025-11-03 18:15:14 -0500 (Mon, 03 Nov 2025) EllapsedTime: 184.4 seconds RetCode: 1 Status: ERROR PackageFile: None PackageFileSize: NA