Package: PCAtools Version: 2.22.0 Maintainer: Kevin Blighe MaintainerEmail: kevin at clinicalbioinformatics.co.uk git_url: https://git.bioconductor.org/packages/PCAtools git_branch: RELEASE_3_22 git_last_commit: 8a2f16a git_last_commit_date: 2025-10-29 10:49:30 -0500 (Wed, 29 Oct 2025)