Package: PAST Version: 1.26.0 Command: /home/biocbuild/bbs-3.22-bioc/R/bin/R CMD build --keep-empty-dirs --no-resave-data --md5 PAST StartedAt: 2025-11-13 19:18:27 -0500 (Thu, 13 Nov 2025) EndedAt: 2025-11-13 19:20:41 -0500 (Thu, 13 Nov 2025) EllapsedTime: 134.1 seconds RetCode: 0 Status: OK PackageFile: PAST_1.26.0.tar.gz PackageFileSize: 954.8 KiB