Package: PANR Version: 1.56.0 Command: /home/biocbuild/bbs-3.22-bioc/R/bin/R CMD INSTALL PANR StartedAt: 2025-11-25 15:31:48 -0500 (Tue, 25 Nov 2025) EndedAt: 2025-11-25 15:32:16 -0500 (Tue, 25 Nov 2025) EllapsedTime: 27.7 seconds RetCode: 0 Status: OK