Package: PAA Version: 1.44.0 Command: /home/biocbuild/bbs-3.22-bioc/R/bin/R CMD INSTALL PAA StartedAt: 2025-11-17 17:49:23 -0500 (Mon, 17 Nov 2025) EndedAt: 2025-11-17 17:50:01 -0500 (Mon, 17 Nov 2025) EllapsedTime: 37.9 seconds RetCode: 0 Status: OK