Package: PAA Version: 1.44.0 Command: /home/biocbuild/bbs-3.22-bioc/R/bin/R CMD build --keep-empty-dirs --no-resave-data --md5 PAA StartedAt: 2025-11-17 22:36:28 -0500 (Mon, 17 Nov 2025) EndedAt: 2025-11-17 22:38:22 -0500 (Mon, 17 Nov 2025) EllapsedTime: 114.1 seconds RetCode: 0 Status: OK PackageFile: PAA_1.44.0.tar.gz PackageFileSize: 4.142 MiB