Package: Organism.dplyr Version: 1.38.0 Command: /home/biocbuild/bbs-3.22-bioc/R/bin/R CMD INSTALL Organism.dplyr StartedAt: 2025-11-20 16:33:26 -0500 (Thu, 20 Nov 2025) EndedAt: 2025-11-20 16:34:05 -0500 (Thu, 20 Nov 2025) EllapsedTime: 38.7 seconds RetCode: 0 Status: OK