Package: OrderedList Version: 1.82.0 Command: /home/biocbuild/bbs-3.22-bioc/R/bin/R CMD INSTALL OrderedList StartedAt: 2025-11-06 15:12:24 -0500 (Thu, 06 Nov 2025) EndedAt: 2025-11-06 15:12:28 -0500 (Thu, 06 Nov 2025) EllapsedTime: 4.4 seconds RetCode: 0 Status: OK