Package: OpenStats Version: 1.22.0 Command: /Library/Frameworks/R.framework/Resources/bin/R CMD build --keep-empty-dirs --no-resave-data OpenStats StartedAt: 2025-11-10 17:15:59 -0500 (Mon, 10 Nov 2025) EndedAt: 2025-11-10 17:16:10 -0500 (Mon, 10 Nov 2025) EllapsedTime: 11.1 seconds RetCode: 0 Status: OK PackageFile: OpenStats_1.22.0.tar.gz PackageFileSize: 600.6 KiB