Package: OpenStats Version: 1.22.0 Command: rm -rf OpenStats.buildbin-libdir && mkdir OpenStats.buildbin-libdir && /Users/biocbuild/BBS/utils/build-universal.sh OpenStats_1.22.0.tar.gz /Library/Frameworks/R.framework/Resources/bin/R OpenStats.buildbin-libdir StartedAt: 2025-11-10 23:30:20 -0500 (Mon, 10 Nov 2025) EndedAt: 2025-11-10 23:30:26 -0500 (Mon, 10 Nov 2025) EllapsedTime: 6.1 seconds RetCode: 0 Status: OK PackageFile: OpenStats_1.22.0.tgz PackageFileSize: 917.4 KiB