Package: OncoSimulR Version: 4.11.1 Command: /home/biocbuild/bbs-3.22-bioc/R/bin/R CMD build --keep-empty-dirs --no-resave-data --md5 OncoSimulR StartedAt: 2025-10-24 19:15:29 -0400 (Fri, 24 Oct 2025) EndedAt: 2025-10-24 19:21:57 -0400 (Fri, 24 Oct 2025) EllapsedTime: 387.4 seconds RetCode: 0 Status: OK PackageFile: OncoSimulR_4.11.1.tar.gz PackageFileSize: 8.39 MiB