Package: OncoScore Version: 1.38.0 Command: /Library/Frameworks/R.framework/Resources/bin/R CMD build --keep-empty-dirs --no-resave-data OncoScore StartedAt: 2025-11-10 17:15:43 -0500 (Mon, 10 Nov 2025) EndedAt: 2025-11-10 17:16:20 -0500 (Mon, 10 Nov 2025) EllapsedTime: 36.4 seconds RetCode: 0 Status: OK PackageFile: OncoScore_1.38.0.tar.gz PackageFileSize: 916.9 KiB