Package: OncoScore Version: 1.38.0 Command: rm -rf OncoScore.buildbin-libdir && mkdir OncoScore.buildbin-libdir && /Users/biocbuild/BBS/utils/build-universal.sh OncoScore_1.38.0.tar.gz /Library/Frameworks/R.framework/Resources/bin/R OncoScore.buildbin-libdir StartedAt: 2025-11-10 23:30:15 -0500 (Mon, 10 Nov 2025) EndedAt: 2025-11-10 23:30:22 -0500 (Mon, 10 Nov 2025) EllapsedTime: 7.1 seconds RetCode: 0 Status: OK PackageFile: OncoScore_1.38.0.tgz PackageFileSize: 971.1 KiB