Package: OmicsMLRepoR Version: 1.3.3 Command: /home/biocbuild/bbs-3.22-bioc/R/bin/R CMD INSTALL OmicsMLRepoR StartedAt: 2025-10-24 15:24:52 -0400 (Fri, 24 Oct 2025) EndedAt: 2025-10-24 15:24:59 -0400 (Fri, 24 Oct 2025) EllapsedTime: 7.1 seconds RetCode: 0 Status: OK