Package: OmicsMLRepoR Version: 1.3.3 Command: /home/biocbuild/bbs-3.22-bioc/R/bin/R CMD build --keep-empty-dirs --no-resave-data --md5 OmicsMLRepoR StartedAt: 2025-10-24 19:14:01 -0400 (Fri, 24 Oct 2025) EndedAt: 2025-10-24 19:15:25 -0400 (Fri, 24 Oct 2025) EllapsedTime: 84.0 seconds RetCode: 0 Status: OK PackageFile: OmicsMLRepoR_1.3.3.tar.gz PackageFileSize: 434.2 KiB