Package: OmicsMLRepoR Version: 1.4.0 Command: /Library/Frameworks/R.framework/Resources/bin/R CMD build --keep-empty-dirs --no-resave-data OmicsMLRepoR StartedAt: 2025-11-03 18:04:41 -0500 (Mon, 03 Nov 2025) EndedAt: 2025-11-03 18:06:15 -0500 (Mon, 03 Nov 2025) EllapsedTime: 93.7 seconds RetCode: 0 Status: OK PackageFile: OmicsMLRepoR_1.4.0.tar.gz PackageFileSize: 431.4 KiB