Package: OmicsMLRepoR Version: 1.4.0 Command: /Library/Frameworks/R.framework/Resources/bin/R CMD build --keep-empty-dirs --no-resave-data OmicsMLRepoR StartedAt: 2025-11-04 17:15:03 -0500 (Tue, 04 Nov 2025) EndedAt: 2025-11-04 17:15:46 -0500 (Tue, 04 Nov 2025) EllapsedTime: 43.5 seconds RetCode: 0 Status: OK PackageFile: OmicsMLRepoR_1.4.0.tar.gz PackageFileSize: 431.5 KiB