Package: OmicsMLRepoR Version: 1.4.0 Command: rm -rf OmicsMLRepoR.buildbin-libdir && mkdir OmicsMLRepoR.buildbin-libdir && /Users/biocbuild/BBS/utils/build-universal.sh OmicsMLRepoR_1.4.0.tar.gz /Library/Frameworks/R.framework/Resources/bin/R OmicsMLRepoR.buildbin-libdir StartedAt: 2025-11-02 23:14:56 -0500 (Sun, 02 Nov 2025) EndedAt: 2025-11-02 23:15:00 -0500 (Sun, 02 Nov 2025) EllapsedTime: 4.1 seconds RetCode: 0 Status: OK PackageFile: OmicsMLRepoR_1.4.0.tgz PackageFileSize: 324.5 KiB