Package: OmicsMLRepoR Version: 1.4.0 Command: /Library/Frameworks/R.framework/Resources/bin/R CMD INSTALL OmicsMLRepoR StartedAt: 2025-11-17 17:22:53 -0500 (Mon, 17 Nov 2025) EndedAt: 2025-11-17 17:22:56 -0500 (Mon, 17 Nov 2025) EllapsedTime: 3.0 seconds RetCode: 0 Status: OK