Package: OmicsMLRepoR Version: 1.4.0 Command: /Library/Frameworks/R.framework/Resources/bin/R CMD build --keep-empty-dirs --no-resave-data OmicsMLRepoR StartedAt: 2025-11-17 23:28:24 -0500 (Mon, 17 Nov 2025) EndedAt: 2025-11-17 23:29:17 -0500 (Mon, 17 Nov 2025) EllapsedTime: 52.5 seconds RetCode: 0 Status: OK PackageFile: OmicsMLRepoR_1.4.0.tar.gz PackageFileSize: 431.5 KiB