Package: OUTRIDER Version: 1.28.0 Command: /home/biocbuild/bbs-3.22-bioc/R/bin/R CMD INSTALL OUTRIDER StartedAt: 2025-11-17 17:52:49 -0500 (Mon, 17 Nov 2025) EndedAt: 2025-11-17 17:53:53 -0500 (Mon, 17 Nov 2025) EllapsedTime: 64.4 seconds RetCode: 0 Status: OK