Package: OTUbase Version: 1.60.0 Command: /home/biocbuild/bbs-3.22-bioc/R/bin/R CMD INSTALL OTUbase StartedAt: 2025-11-16 15:54:42 -0500 (Sun, 16 Nov 2025) EndedAt: 2025-11-16 15:55:17 -0500 (Sun, 16 Nov 2025) EllapsedTime: 35.4 seconds RetCode: 0 Status: OK