Package: OSAT Version: 1.57.0 Command: /home/biocbuild/bbs-3.22-bioc/R/bin/R CMD build --keep-empty-dirs --no-resave-data --md5 OSAT StartedAt: 2025-10-27 19:09:15 -0400 (Mon, 27 Oct 2025) EndedAt: 2025-10-27 19:10:17 -0400 (Mon, 27 Oct 2025) EllapsedTime: 61.1 seconds RetCode: 0 Status: OK PackageFile: OSAT_1.57.0.tar.gz PackageFileSize: 961.7 KiB