Package: OSAT Version: 1.58.0 Command: /Library/Frameworks/R.framework/Resources/bin/R CMD INSTALL OSAT StartedAt: 2025-11-03 15:09:17 -0500 (Mon, 03 Nov 2025) EndedAt: 2025-11-03 15:09:45 -0500 (Mon, 03 Nov 2025) EllapsedTime: 28.0 seconds RetCode: 0 Status: OK