Package: OSAT Version: 1.58.0 Command: /Library/Frameworks/R.framework/Resources/bin/R CMD build --keep-empty-dirs --no-resave-data OSAT StartedAt: 2025-11-03 18:06:58 -0500 (Mon, 03 Nov 2025) EndedAt: 2025-11-03 18:07:46 -0500 (Mon, 03 Nov 2025) EllapsedTime: 47.7 seconds RetCode: 0 Status: OK PackageFile: OSAT_1.58.0.tar.gz PackageFileSize: 958.8 KiB