Package: OSAT Version: 1.58.0 Command: /Library/Frameworks/R.framework/Resources/bin/R CMD INSTALL OSAT StartedAt: 2025-11-02 15:01:25 -0500 (Sun, 02 Nov 2025) EndedAt: 2025-11-02 15:01:26 -0500 (Sun, 02 Nov 2025) EllapsedTime: 1.5 seconds RetCode: 0 Status: OK