Package: OSAT Version: 1.58.0 Command: /Library/Frameworks/R.framework/Resources/bin/R CMD build --keep-empty-dirs --no-resave-data OSAT StartedAt: 2025-11-04 17:16:47 -0500 (Tue, 04 Nov 2025) EndedAt: 2025-11-04 17:17:10 -0500 (Tue, 04 Nov 2025) EllapsedTime: 23.2 seconds RetCode: 0 Status: OK PackageFile: OSAT_1.58.0.tar.gz PackageFileSize: 959.7 KiB